BEGIN:VCALENDAR
VERSION:2.0
PRODID:-//garten für alle - ECPv6.15.17.1//NONSGML v1.0//EN
CALSCALE:GREGORIAN
METHOD:PUBLISH
X-WR-CALNAME:garten für alle
X-ORIGINAL-URL:https://www.gartenfueralle.de
X-WR-CALDESC:Veranstaltungen für garten für alle
REFRESH-INTERVAL;VALUE=DURATION:PT1H
X-Robots-Tag:noindex
X-PUBLISHED-TTL:PT1H
BEGIN:VTIMEZONE
TZID:Europe/Berlin
BEGIN:DAYLIGHT
TZOFFSETFROM:+0100
TZOFFSETTO:+0200
TZNAME:CEST
DTSTART:20250330T010000
END:DAYLIGHT
BEGIN:STANDARD
TZOFFSETFROM:+0200
TZOFFSETTO:+0100
TZNAME:CET
DTSTART:20251026T010000
END:STANDARD
BEGIN:DAYLIGHT
TZOFFSETFROM:+0100
TZOFFSETTO:+0200
TZNAME:CEST
DTSTART:20260329T010000
END:DAYLIGHT
BEGIN:STANDARD
TZOFFSETFROM:+0200
TZOFFSETTO:+0100
TZNAME:CET
DTSTART:20261025T010000
END:STANDARD
BEGIN:DAYLIGHT
TZOFFSETFROM:+0100
TZOFFSETTO:+0200
TZNAME:CEST
DTSTART:20270328T010000
END:DAYLIGHT
BEGIN:STANDARD
TZOFFSETFROM:+0200
TZOFFSETTO:+0100
TZNAME:CET
DTSTART:20271031T010000
END:STANDARD
BEGIN:DAYLIGHT
TZOFFSETFROM:+0100
TZOFFSETTO:+0200
TZNAME:CEST
DTSTART:20280326T010000
END:DAYLIGHT
BEGIN:STANDARD
TZOFFSETFROM:+0200
TZOFFSETTO:+0100
TZNAME:CET
DTSTART:20281029T010000
END:STANDARD
END:VTIMEZONE
BEGIN:VEVENT
DTSTART;TZID=Europe/Berlin:20260929T080000
DTEND;TZID=Europe/Berlin:20270504T170000
DTSTAMP:20260421T025359
CREATED:20251124T094543Z
LAST-MODIFIED:20251124T095557Z
UID:3273-1790668800-1809450000@www.gartenfueralle.de
SUMMARY:„Grüne Pflege“ – Anwender*in für naturgestützte Interventionen für Menschen mit Demenz-Stuttgart
DESCRIPTION:Eine Weiterbildung für Betreuungskräfte\, Alltagsbegleiter*innen\, Ergotherapeut*innen und ehrenamtlich Mitarbeitende in Kooperation mit der Gesellschaft für Gartenbau und Therapie GGuT. \nAls gesunder Mensch können wir selbst dafür sorgen\, unsere Bedürfnisse nach Natur und Garten zu erfüllen\, so dass es uns gut geht.\nWie geht es Menschen mit Demenz und/oder starken körperlichen Einschränkungen? Haben sie die Möglichkeit\, die Natur zu erleben? Kann dieses in uns allen verankerte individuelle Bedürfnis erfüllt werden – und wie? \nDie Weiterbildung schließt mit einem Zertifikat zum/zur Anwender*infür naturgestützte Interventionen für Menschen mit Demenz ab undentspricht den Richtlinien nach § 53c SGB XI (insbesondere § 4\,Qualifikation der Betreuungskräfte\, Abs. 4).Das Zertifikat wird ohne Prüfung erlangt. \nAnmeldung siehe Link unten.
URL:https://www.gartenfueralle.de/termin/gruene-pflege-anwenderin-fuer-naturgestuetzte-interventionen-fuer-menschen-mit-demenz-stuttgart/
LOCATION:Stuttgart
ATTACH;FMTTYPE=image/jpeg:https://www.gartenfueralle.de/wp-content/uploads/2025/11/Diakon-In.jpg
END:VEVENT
END:VCALENDAR